BEGIN:VCALENDAR
VERSION:2.0
PRODID:-//RoSPA Advanced Drivers and Riders West Midlands - ECPv6.15.20//NONSGML v1.0//EN
CALSCALE:GREGORIAN
METHOD:PUBLISH
X-WR-CALNAME:RoSPA Advanced Drivers and Riders West Midlands
X-ORIGINAL-URL:https://rospabikers.club
X-WR-CALDESC:Events for RoSPA Advanced Drivers and Riders West Midlands
REFRESH-INTERVAL;VALUE=DURATION:PT1H
X-Robots-Tag:noindex
X-PUBLISHED-TTL:PT1H
BEGIN:VTIMEZONE
TZID:Europe/London
BEGIN:DAYLIGHT
TZOFFSETFROM:+0000
TZOFFSETTO:+0100
TZNAME:BST
DTSTART:20250330T010000
END:DAYLIGHT
BEGIN:STANDARD
TZOFFSETFROM:+0100
TZOFFSETTO:+0000
TZNAME:GMT
DTSTART:20251026T010000
END:STANDARD
BEGIN:DAYLIGHT
TZOFFSETFROM:+0000
TZOFFSETTO:+0100
TZNAME:BST
DTSTART:20260329T010000
END:DAYLIGHT
BEGIN:STANDARD
TZOFFSETFROM:+0100
TZOFFSETTO:+0000
TZNAME:GMT
DTSTART:20261025T010000
END:STANDARD
BEGIN:DAYLIGHT
TZOFFSETFROM:+0000
TZOFFSETTO:+0100
TZNAME:BST
DTSTART:20270328T010000
END:DAYLIGHT
BEGIN:STANDARD
TZOFFSETFROM:+0100
TZOFFSETTO:+0000
TZNAME:GMT
DTSTART:20271031T010000
END:STANDARD
END:VTIMEZONE
BEGIN:VEVENT
DTSTART;TZID=Europe/London:20260506T090000
DTEND;TZID=Europe/London:20260506T133000
DTSTAMP:20260425T112934
CREATED:20260309T153718Z
LAST-MODIFIED:20260410T182212Z
UID:3720-1778058000-1778074200@rospabikers.club
SUMMARY:6th May (Wednesday) Group Ride - Sharon/Andy
DESCRIPTION:Meeting Location: Tamworth McDonald’s B78 3HD.  9.15am briefing and 9.30am departure.\nDestination: Welcome Cafe LE14 2HZ.\nApproximate Mileage: 90 miles \nLead Rider: Sharon Jones\nTail End Rider: Andy Jones \n**Please RSVP on this event in the RoSPA WhatsApp Community**
URL:https://rospabikers.club/event/6th-may-wednesday-group-ride/
END:VEVENT
BEGIN:VEVENT
DTSTART;VALUE=DATE:20260508
DTEND;VALUE=DATE:20260512
DTSTAMP:20260425T112934
CREATED:20251130T121849Z
LAST-MODIFIED:20260410T182159Z
UID:3367-1778198400-1778543999@rospabikers.club
SUMMARY:Yorkshire Weekend Away (May 2026)
DESCRIPTION:The 2026 club May weekend away will be from the 8th to 11th May. If you would like more information\, or if you would like to be added to the WhatsApp group message Andy Jones directly on 07971 402288. \nThe weekend will be open to all club members including associates and pillions. \n**Please RSVP on this event in the RoSPA WhatsApp Community**
URL:https://rospabikers.club/event/may-2026-weekend-away/
CATEGORIES:Club Group Rides
END:VEVENT
BEGIN:VEVENT
DTSTART;TZID=Europe/London:20260513T193000
DTEND;TZID=Europe/London:20260513T213000
DTSTAMP:20260425T112934
CREATED:20260303T175123Z
LAST-MODIFIED:20260422T221515Z
UID:3660-1778700600-1778707800@rospabikers.club
SUMMARY:RoSPA Club Night
DESCRIPTION:Club night at the regular venue. Arrive from 19:00 meeting starting at 19:30. \nEvent Details:\nBikeTrac will be discussing security for your bike\, both at home and while you are out and about. The aim is to enable you to review your own security and ensure you have all the information to make the right choice for you and your individual circumstances. They will be answering your questions on trackers and hard security\, and giving you some helpful tips and tricks. Please come armed with your questions! \n**Please RSVP on this event in the RoSPA WhatsApp Community**
URL:https://rospabikers.club/event/rospa-club-night-12/
LOCATION:Veseyans Rugby Club\, Little Hardwick Road\, Walsall\, WS90SQ\, United Kingdom
END:VEVENT
END:VCALENDAR