BEGIN:VCALENDAR
VERSION:2.0
PRODID:-//RoSPA Advanced Drivers and Riders West Midlands - ECPv6.15.20//NONSGML v1.0//EN
CALSCALE:GREGORIAN
METHOD:PUBLISH
X-WR-CALNAME:RoSPA Advanced Drivers and Riders West Midlands
X-ORIGINAL-URL:https://rospabikers.club
X-WR-CALDESC:Events for RoSPA Advanced Drivers and Riders West Midlands
REFRESH-INTERVAL;VALUE=DURATION:PT1H
X-Robots-Tag:noindex
X-PUBLISHED-TTL:PT1H
BEGIN:VTIMEZONE
TZID:Europe/London
BEGIN:DAYLIGHT
TZOFFSETFROM:+0000
TZOFFSETTO:+0100
TZNAME:BST
DTSTART:20250330T010000
END:DAYLIGHT
BEGIN:STANDARD
TZOFFSETFROM:+0100
TZOFFSETTO:+0000
TZNAME:GMT
DTSTART:20251026T010000
END:STANDARD
BEGIN:DAYLIGHT
TZOFFSETFROM:+0000
TZOFFSETTO:+0100
TZNAME:BST
DTSTART:20260329T010000
END:DAYLIGHT
BEGIN:STANDARD
TZOFFSETFROM:+0100
TZOFFSETTO:+0000
TZNAME:GMT
DTSTART:20261025T010000
END:STANDARD
BEGIN:DAYLIGHT
TZOFFSETFROM:+0000
TZOFFSETTO:+0100
TZNAME:BST
DTSTART:20270328T010000
END:DAYLIGHT
BEGIN:STANDARD
TZOFFSETFROM:+0100
TZOFFSETTO:+0000
TZNAME:GMT
DTSTART:20271031T010000
END:STANDARD
END:VTIMEZONE
BEGIN:VEVENT
DTSTART;TZID=Europe/London:20260101T094500
DTEND;TZID=Europe/London:20260101T140000
DTSTAMP:20260423T123701
CREATED:20251220T153941Z
LAST-MODIFIED:20251229T095953Z
UID:3482-1767260700-1767276000@rospabikers.club
SUMMARY:New Years Day Ride
DESCRIPTION:Meeting at Wall McDonald’s (Birmingham WS14 0QP) for a 9.45 briefing\, heading into Derbyshire. If weather permits we will go to Yonderman cafe\, if its bad weather we will find a closer venue. \nEveryone welcome\, please have a full tank and light refreshments. \nShould be back around 2pm ish.
URL:https://rospabikers.club/event/new-years-day-ride/
END:VEVENT
END:VCALENDAR