BEGIN:VCALENDAR
VERSION:2.0
PRODID:-//RoSPA Advanced Drivers and Riders West Midlands - ECPv6.15.20//NONSGML v1.0//EN
CALSCALE:GREGORIAN
METHOD:PUBLISH
X-ORIGINAL-URL:https://rospabikers.club
X-WR-CALDESC:Events for RoSPA Advanced Drivers and Riders West Midlands
REFRESH-INTERVAL;VALUE=DURATION:PT1H
X-Robots-Tag:noindex
X-PUBLISHED-TTL:PT1H
BEGIN:VTIMEZONE
TZID:Europe/London
BEGIN:DAYLIGHT
TZOFFSETFROM:+0000
TZOFFSETTO:+0100
TZNAME:BST
DTSTART:20240331T010000
END:DAYLIGHT
BEGIN:STANDARD
TZOFFSETFROM:+0100
TZOFFSETTO:+0000
TZNAME:GMT
DTSTART:20241027T010000
END:STANDARD
BEGIN:DAYLIGHT
TZOFFSETFROM:+0000
TZOFFSETTO:+0100
TZNAME:BST
DTSTART:20250330T010000
END:DAYLIGHT
BEGIN:STANDARD
TZOFFSETFROM:+0100
TZOFFSETTO:+0000
TZNAME:GMT
DTSTART:20251026T010000
END:STANDARD
BEGIN:DAYLIGHT
TZOFFSETFROM:+0000
TZOFFSETTO:+0100
TZNAME:BST
DTSTART:20260329T010000
END:DAYLIGHT
BEGIN:STANDARD
TZOFFSETFROM:+0100
TZOFFSETTO:+0000
TZNAME:GMT
DTSTART:20261025T010000
END:STANDARD
END:VTIMEZONE
BEGIN:VEVENT
DTSTART;TZID=Europe/London:20251210T193000
DTEND;TZID=Europe/London:20251210T213000
DTSTAMP:20260423T141625
CREATED:20250308T174113Z
LAST-MODIFIED:20251124T164731Z
UID:2941-1765395000-1765402200@rospabikers.club
SUMMARY:RoSPA Club Night
DESCRIPTION:Club night at the regular venue. \nArrive from 19:00 meeting starting at 19:30 \n  \nEvent Details: \nMore information to follow….
URL:https://rospabikers.club/event/rospa-club-night-10/
LOCATION:Veseyans Rugby Club\, Little Hardwick Road\, Walsall\, WS90SQ\, United Kingdom
CATEGORIES:Club Nights
END:VEVENT
BEGIN:VEVENT
DTSTART;TZID=Europe/London:20251214T090000
DTEND;TZID=Europe/London:20251214T130000
DTSTAMP:20260423T141625
CREATED:20250103T094910Z
LAST-MODIFIED:20251213T171450Z
UID:2665-1765702800-1765717200@rospabikers.club
SUMMARY:December Group Ride
DESCRIPTION:December Group Ride – Last club ride for the year\, don’t wanna miss it. \nAndy Jones leading. Meet at Bassetts Pole for 9.00am departure heading towards Wellesbourne back home by 1.00pm ish. Please indicate on the website if you intend to come so he will know who to expect.
URL:https://rospabikers.club/event/december-group-ride/
ORGANIZER;CN="Jim Layland":MAILTO:Events@Rospabikers.club
END:VEVENT
END:VCALENDAR