BEGIN:VCALENDAR
VERSION:2.0
PRODID:-//RoSPA Advanced Drivers and Riders West Midlands - ECPv6.15.20//NONSGML v1.0//EN
CALSCALE:GREGORIAN
METHOD:PUBLISH
X-WR-CALNAME:RoSPA Advanced Drivers and Riders West Midlands
X-ORIGINAL-URL:https://rospabikers.club
X-WR-CALDESC:Events for RoSPA Advanced Drivers and Riders West Midlands
REFRESH-INTERVAL;VALUE=DURATION:PT1H
X-Robots-Tag:noindex
X-PUBLISHED-TTL:PT1H
BEGIN:VTIMEZONE
TZID:Europe/London
BEGIN:DAYLIGHT
TZOFFSETFROM:+0000
TZOFFSETTO:+0100
TZNAME:BST
DTSTART:20240331T010000
END:DAYLIGHT
BEGIN:STANDARD
TZOFFSETFROM:+0100
TZOFFSETTO:+0000
TZNAME:GMT
DTSTART:20241027T010000
END:STANDARD
BEGIN:DAYLIGHT
TZOFFSETFROM:+0000
TZOFFSETTO:+0100
TZNAME:BST
DTSTART:20250330T010000
END:DAYLIGHT
BEGIN:STANDARD
TZOFFSETFROM:+0100
TZOFFSETTO:+0000
TZNAME:GMT
DTSTART:20251026T010000
END:STANDARD
BEGIN:DAYLIGHT
TZOFFSETFROM:+0000
TZOFFSETTO:+0100
TZNAME:BST
DTSTART:20260329T010000
END:DAYLIGHT
BEGIN:STANDARD
TZOFFSETFROM:+0100
TZOFFSETTO:+0000
TZNAME:GMT
DTSTART:20261025T010000
END:STANDARD
END:VTIMEZONE
BEGIN:VEVENT
DTSTART;TZID=Europe/London:20250813T193000
DTEND;TZID=Europe/London:20250813T213000
DTSTAMP:20260425T131339
CREATED:20250308T172715Z
LAST-MODIFIED:20250308T172800Z
UID:2929-1755113400-1755120600@rospabikers.club
SUMMARY:RoSPA Club Night
DESCRIPTION:Club night at the regular venue. \nArrive from 19:00 meeting starting at 19:30 \n  \nEvent Details: \nMore information to follow….
URL:https://rospabikers.club/event/rospa-club-night-6/
LOCATION:Veseyans Rugby Club\, Little Hardwick Road\, Walsall\, WS90SQ\, United Kingdom
END:VEVENT
BEGIN:VEVENT
DTSTART;TZID=Europe/London:20250817T080000
DTEND;TZID=Europe/London:20250817T170000
DTSTAMP:20260425T131339
CREATED:20250103T090037Z
LAST-MODIFIED:20250208T204931Z
UID:2652-1755417600-1755450000@rospabikers.club
SUMMARY:August Group Ride
DESCRIPTION:August Group Ride – Details to follow
URL:https://rospabikers.club/event/august-group-ride/
ORGANIZER;CN="Jim Layland":MAILTO:Events@Rospabikers.club
END:VEVENT
END:VCALENDAR