BEGIN:VCALENDAR
VERSION:2.0
PRODID:-//RoSPA Advanced Drivers and Riders West Midlands - ECPv6.15.20//NONSGML v1.0//EN
CALSCALE:GREGORIAN
METHOD:PUBLISH
X-WR-CALNAME:RoSPA Advanced Drivers and Riders West Midlands
X-ORIGINAL-URL:https://rospabikers.club
X-WR-CALDESC:Events for RoSPA Advanced Drivers and Riders West Midlands
REFRESH-INTERVAL;VALUE=DURATION:PT1H
X-Robots-Tag:noindex
X-PUBLISHED-TTL:PT1H
BEGIN:VTIMEZONE
TZID:Europe/London
BEGIN:DAYLIGHT
TZOFFSETFROM:+0000
TZOFFSETTO:+0100
TZNAME:BST
DTSTART:20240331T010000
END:DAYLIGHT
BEGIN:STANDARD
TZOFFSETFROM:+0100
TZOFFSETTO:+0000
TZNAME:GMT
DTSTART:20241027T010000
END:STANDARD
BEGIN:DAYLIGHT
TZOFFSETFROM:+0000
TZOFFSETTO:+0100
TZNAME:BST
DTSTART:20250330T010000
END:DAYLIGHT
BEGIN:STANDARD
TZOFFSETFROM:+0100
TZOFFSETTO:+0000
TZNAME:GMT
DTSTART:20251026T010000
END:STANDARD
BEGIN:DAYLIGHT
TZOFFSETFROM:+0000
TZOFFSETTO:+0100
TZNAME:BST
DTSTART:20260329T010000
END:DAYLIGHT
BEGIN:STANDARD
TZOFFSETFROM:+0100
TZOFFSETTO:+0000
TZNAME:GMT
DTSTART:20261025T010000
END:STANDARD
END:VTIMEZONE
BEGIN:VEVENT
DTSTART;TZID=Europe/London:20250604T090000
DTEND;TZID=Europe/London:20250604T130000
DTSTAMP:20260425T165115
CREATED:20250526T160933Z
LAST-MODIFIED:20250526T160933Z
UID:3312-1749027600-1749042000@rospabikers.club
SUMMARY:RoSPA Group Ride - Led by Andy Jones
DESCRIPTION:Starting at Wall McDonalds heading for Derbyshire. \nMeet time:   09:00\nDeparting:   09:15\nExpect arrival back at Wall McDonalds approximately  –  13:00 \nPlease arrive with refreshments (as it may be warm) and a full tank of fuel.\nExpected to be around 100 miles. \nEveryone welcome including new members and pillions.
URL:https://rospabikers.club/event/rospa-group-ride-led-by-andy-jones/
LOCATION:Wall McDonalds
END:VEVENT
BEGIN:VEVENT
DTSTART;VALUE=DATE:20250606
DTEND;VALUE=DATE:20250607
DTSTAMP:20260425T165115
CREATED:20250125T120801Z
LAST-MODIFIED:20250604T132142Z
UID:2698-1749168000-1749254399@rospabikers.club
SUMMARY:Darley Moor Road Skills Day - THIS EVENT HAS BEEN CANCELLED
DESCRIPTION:Darley Moor Road Skills Days 2025 \nPlease contact Darley Moor directly if you have not received an email regarding a refund or changing to an alternate date. \nFor further details contact secretary@rospabikers.club \n  \n 
URL:https://rospabikers.club/event/darley-moor-road-skills-day/
LOCATION:Darley Moor Racetrack\, Darley Moor Sports Centre\, Ashbourne\, DE62ET
ORGANIZER;CN="Jim Layland":MAILTO:Events@Rospabikers.club
END:VEVENT
BEGIN:VEVENT
DTSTART;TZID=Europe/London:20250611T193000
DTEND;TZID=Europe/London:20250611T213000
DTSTAMP:20260425T165115
CREATED:20250308T172353Z
LAST-MODIFIED:20250308T172353Z
UID:2921-1749670200-1749677400@rospabikers.club
SUMMARY:RoSPA Club Night
DESCRIPTION:Club night at the regular venue. \nArrive from 19:00 meeting starting at 19:30 \n  \nEvent Details: \nMore information to follow….
URL:https://rospabikers.club/event/rospa-club-night-4/
LOCATION:Veseyans Rugby Club\, Little Hardwick Road\, Walsall\, WS90SQ\, United Kingdom
END:VEVENT
BEGIN:VEVENT
DTSTART;TZID=Europe/London:20250614T080000
DTEND;TZID=Europe/London:20250614T170000
DTSTAMP:20260425T165115
CREATED:20250103T085557Z
LAST-MODIFIED:20250330T104050Z
UID:2642-1749888000-1749920400@rospabikers.club
SUMMARY:June Group Ride - Lead by David Higgs
DESCRIPTION:June Group Ride – Details to follow
URL:https://rospabikers.club/event/june-group-ride/
ORGANIZER;CN="Jim Layland":MAILTO:Events@Rospabikers.club
END:VEVENT
END:VCALENDAR