BEGIN:VCALENDAR
VERSION:2.0
PRODID:-//RoSPA Advanced Drivers and Riders West Midlands - ECPv6.15.20//NONSGML v1.0//EN
CALSCALE:GREGORIAN
METHOD:PUBLISH
X-ORIGINAL-URL:https://rospabikers.club
X-WR-CALDESC:Events for RoSPA Advanced Drivers and Riders West Midlands
REFRESH-INTERVAL;VALUE=DURATION:PT1H
X-Robots-Tag:noindex
X-PUBLISHED-TTL:PT1H
BEGIN:VTIMEZONE
TZID:Europe/London
BEGIN:DAYLIGHT
TZOFFSETFROM:+0000
TZOFFSETTO:+0100
TZNAME:BST
DTSTART:20240331T010000
END:DAYLIGHT
BEGIN:STANDARD
TZOFFSETFROM:+0100
TZOFFSETTO:+0000
TZNAME:GMT
DTSTART:20241027T010000
END:STANDARD
BEGIN:DAYLIGHT
TZOFFSETFROM:+0000
TZOFFSETTO:+0100
TZNAME:BST
DTSTART:20250330T010000
END:DAYLIGHT
BEGIN:STANDARD
TZOFFSETFROM:+0100
TZOFFSETTO:+0000
TZNAME:GMT
DTSTART:20251026T010000
END:STANDARD
BEGIN:DAYLIGHT
TZOFFSETFROM:+0000
TZOFFSETTO:+0100
TZNAME:BST
DTSTART:20260329T010000
END:DAYLIGHT
BEGIN:STANDARD
TZOFFSETFROM:+0100
TZOFFSETTO:+0000
TZNAME:GMT
DTSTART:20261025T010000
END:STANDARD
END:VTIMEZONE
BEGIN:VEVENT
DTSTART;VALUE=DATE:20250315
DTEND;VALUE=DATE:20250316
DTSTAMP:20260421T093602
CREATED:20250203T092323Z
LAST-MODIFIED:20250224T192938Z
UID:2761-1741996800-1742083199@rospabikers.club
SUMMARY:Trainers & Associate Ride (closed event)
DESCRIPTION:This is a Trainers ride out to include their associates. \nThis is a closed event to anyone else. \n  \nFfor more info please contact Mark Weaver.
URL:https://rospabikers.club/event/march-trainers-associate-ride-closed-event-saturday-15th/
ORGANIZER;CN="Jim Layland":MAILTO:Events@Rospabikers.club
END:VEVENT
BEGIN:VEVENT
DTSTART;TZID=Europe/London:20250312T193000
DTEND;TZID=Europe/London:20250312T210000
DTSTAMP:20260421T093602
CREATED:20250224T190544Z
LAST-MODIFIED:20250308T171054Z
UID:2842-1741807800-1741813200@rospabikers.club
SUMMARY:RoSPA Club Night
DESCRIPTION:Club night at the regular venue. \nArrive from 19:00 meeting starting at 19:30 \n  \nEvent Details: \nDave Luscombe from Darley Moor circuit\, providing an overview of upcoming events \n 
URL:https://rospabikers.club/event/rospa-club-night/
LOCATION:Veseyans Rugby Club\, Little Hardwick Road\, Walsall\, WS90SQ\, United Kingdom
END:VEVENT
BEGIN:VEVENT
DTSTART;TZID=Europe/London:20250305T090000
DTEND;TZID=Europe/London:20250305T130000
DTSTAMP:20260421T093602
CREATED:20250224T203623Z
LAST-MODIFIED:20250224T203957Z
UID:2855-1741165200-1741179600@rospabikers.club
SUMMARY:Mid-week ride to Wellesbourne Airfield
DESCRIPTION:Andy Jones is planning a midweek ride to Wellesbourne Airfield and back. \nStarting from Bassetts Pole @ 09:00 if anyone would like to join? \n  \nThe end time shown is an estimated time and the ride may finish slightly sooner or later than the specified time.
URL:https://rospabikers.club/event/mid-week-ride-to-wellesbourne-airfield/
LOCATION:McDonalds – Bassetts Pole\, LONDON ROAD\, SUTTON COLDFIELD\, B75 5SA\, United Kingdom
END:VEVENT
BEGIN:VEVENT
DTSTART;TZID=Europe/London:20250216T084500
DTEND;TZID=Europe/London:20250216T140000
DTSTAMP:20260421T093602
CREATED:20250102T115906Z
LAST-MODIFIED:20250208T215332Z
UID:2632-1739695500-1739714400@rospabikers.club
SUMMARY:February Group Ride to Craven Arms
DESCRIPTION:Group ride leader:  Mark Weaver \nMeeting Location:  McDonalds\, Wall Island \nMeeting time:  08:45-09:00 \nDeparting at 09:30 \nDestination:   Craven Arms \n  \n*** Please note *** \nThe indicated finishing time is an approximate time only\, the ride may finish before or after this time. \n 
URL:https://rospabikers.club/event/february-group-ride/
LOCATION:Wall McDonalds
ORGANIZER;CN="Jim Layland":MAILTO:Events@Rospabikers.club
END:VEVENT
BEGIN:VEVENT
DTSTART;TZID=Europe/London:20250212T193000
DTEND;TZID=Europe/London:20250212T210000
DTSTAMP:20260421T093602
CREATED:20250125T201132Z
LAST-MODIFIED:20250208T202431Z
UID:2740-1739388600-1739394000@rospabikers.club
SUMMARY:February Club Night - Wednesday 12th Feb
DESCRIPTION:
URL:https://rospabikers.club/event/february-club-night-wednesday-12th-feb/
LOCATION:Veseyans Rugby Club\, Little Hardwick Road\, Walsall\, WS90SQ\, United Kingdom
ORGANIZER;CN="Jim Layland":MAILTO:Events@Rospabikers.club
END:VEVENT
END:VCALENDAR