BEGIN:VCALENDAR
VERSION:2.0
PRODID:-//RoSPA Advanced Drivers and Riders West Midlands - ECPv6.15.20//NONSGML v1.0//EN
CALSCALE:GREGORIAN
METHOD:PUBLISH
X-WR-CALNAME:RoSPA Advanced Drivers and Riders West Midlands
X-ORIGINAL-URL:https://rospabikers.club
X-WR-CALDESC:Events for RoSPA Advanced Drivers and Riders West Midlands
REFRESH-INTERVAL;VALUE=DURATION:PT1H
X-Robots-Tag:noindex
X-PUBLISHED-TTL:PT1H
BEGIN:VTIMEZONE
TZID:Europe/London
BEGIN:DAYLIGHT
TZOFFSETFROM:+0000
TZOFFSETTO:+0100
TZNAME:BST
DTSTART:20250330T010000
END:DAYLIGHT
BEGIN:STANDARD
TZOFFSETFROM:+0100
TZOFFSETTO:+0000
TZNAME:GMT
DTSTART:20251026T010000
END:STANDARD
BEGIN:DAYLIGHT
TZOFFSETFROM:+0000
TZOFFSETTO:+0100
TZNAME:BST
DTSTART:20260329T010000
END:DAYLIGHT
BEGIN:STANDARD
TZOFFSETFROM:+0100
TZOFFSETTO:+0000
TZNAME:GMT
DTSTART:20261025T010000
END:STANDARD
BEGIN:DAYLIGHT
TZOFFSETFROM:+0000
TZOFFSETTO:+0100
TZNAME:BST
DTSTART:20270328T010000
END:DAYLIGHT
BEGIN:STANDARD
TZOFFSETFROM:+0100
TZOFFSETTO:+0000
TZNAME:GMT
DTSTART:20271031T010000
END:STANDARD
END:VTIMEZONE
BEGIN:VEVENT
DTSTART;TZID=Europe/London:20260603T093000
DTEND;TZID=Europe/London:20260603T133000
DTSTAMP:20260423T175143
CREATED:20260309T154017Z
LAST-MODIFIED:20260410T182122Z
UID:3725-1780479000-1780493400@rospabikers.club
SUMMARY:3rd June (Wednesday) Group Ride - TBC
DESCRIPTION:Meeting Location: TBC\nDestination: TBC\nApproximate Mileage: TBC \nLead Rider: TBC\nTail End Rider: TBC \n**Please RSVP on this event in the RoSPA WhatsApp Community**
URL:https://rospabikers.club/event/3rd-june-wednesday-group-ride/
END:VEVENT
BEGIN:VEVENT
DTSTART;TZID=Europe/London:20260610T193000
DTEND;TZID=Europe/London:20260610T210000
DTSTAMP:20260423T175143
CREATED:20260130T002522Z
LAST-MODIFIED:20260410T182147Z
UID:3542-1781119800-1781125200@rospabikers.club
SUMMARY:RoSPA Club Night
DESCRIPTION:Club night at the regular venue. Arrive from 19:00 meeting starting at 19:30. \nEvent Details: Biker down\, accident/scene management presentation by Curtis & Ally \n**Please RSVP on this event in the RoSPA WhatsApp Community**
URL:https://rospabikers.club/event/club-night/
LOCATION:Veseyans Rugby Club\, Little Hardwick Road\, Walsall\, WS90SQ\, United Kingdom
END:VEVENT
BEGIN:VEVENT
DTSTART;TZID=Europe/London:20260701T093000
DTEND;TZID=Europe/London:20260701T133000
DTSTAMP:20260423T175143
CREATED:20260309T154139Z
LAST-MODIFIED:20260410T182117Z
UID:3729-1782898200-1782912600@rospabikers.club
SUMMARY:1st July (Wednesday) Group Ride - TBC
DESCRIPTION:Meeting Location: TBC\nDestination: TBC\nApproximate Mileage: TBC \nLead Rider: TBC\nTail End Rider: TBC \n**Please RSVP on this event in the RoSPA WhatsApp Community**
URL:https://rospabikers.club/event/1st-july-wednesday-group-ride/
END:VEVENT
BEGIN:VEVENT
DTSTART;VALUE=DATE:20260703
DTEND;VALUE=DATE:20260707
DTSTAMP:20260423T175143
CREATED:20251122T154429Z
LAST-MODIFIED:20260410T182141Z
UID:3343-1783036800-1783382399@rospabikers.club
SUMMARY:Wales Weekend Away (Jul 2026)
DESCRIPTION:Full members group trip. Accomodation booked next to Snowdon\, great roads and scenery. July3rd-July6th. \nContact Mark Weaver for further details. \n**Please RSVP on this event in the RoSPA WhatsApp Community**
URL:https://rospabikers.club/event/wales-2026/
END:VEVENT
BEGIN:VEVENT
DTSTART;TZID=Europe/London:20260708T193000
DTEND;TZID=Europe/London:20260708T210000
DTSTAMP:20260423T175143
CREATED:20260309T002027Z
LAST-MODIFIED:20260410T182138Z
UID:3700-1783539000-1783544400@rospabikers.club
SUMMARY:RoSPA Club Night
DESCRIPTION:Club night at the regular venue. Arrive from 19:00 meeting starting at 19:30. \nEvent Details: Talk from Helite airbags rep \n**Please RSVP on this event in the RoSPA WhatsApp Community**
URL:https://rospabikers.club/event/rospa-club-night-14/
LOCATION:Veseyans Rugby Club\, Little Hardwick Road\, Walsall\, WS90SQ\, United Kingdom
END:VEVENT
BEGIN:VEVENT
DTSTART;TZID=Europe/London:20260805T093000
DTEND;TZID=Europe/London:20260805T133000
DTSTAMP:20260423T175143
CREATED:20260309T154241Z
LAST-MODIFIED:20260410T182057Z
UID:3732-1785922200-1785936600@rospabikers.club
SUMMARY:5th August (Wednesday) Group Ride - TBC
DESCRIPTION:Meeting Location: TBC\nDestination: TBC\nApproximate Mileage: TBC \nLead Rider: TBC\nTail End Rider: TBC \n**Please RSVP on this event in the RoSPA WhatsApp Community**
URL:https://rospabikers.club/event/5th-august-wednesday-group-ride/
END:VEVENT
BEGIN:VEVENT
DTSTART;TZID=Europe/London:20260812T193000
DTEND;TZID=Europe/London:20260812T210000
DTSTAMP:20260423T175143
CREATED:20260309T002102Z
LAST-MODIFIED:20260410T182040Z
UID:3703-1786563000-1786568400@rospabikers.club
SUMMARY:RoSPA Club Night
DESCRIPTION:Club night at the regular venue. Arrive from 19:00 meeting starting at 19:30. \nEvent Details: TBC \n**Please RSVP on this event in the RoSPA WhatsApp Community**
URL:https://rospabikers.club/event/rospa-club-night-15/
LOCATION:Veseyans Rugby Club\, Little Hardwick Road\, Walsall\, WS90SQ\, United Kingdom
END:VEVENT
BEGIN:VEVENT
DTSTART;TZID=Europe/London:20260902T093000
DTEND;TZID=Europe/London:20260902T133000
DTSTAMP:20260423T175143
CREATED:20260309T154720Z
LAST-MODIFIED:20260410T182105Z
UID:3735-1788341400-1788355800@rospabikers.club
SUMMARY:2nd September (Wednesday) Group Ride – TBC
DESCRIPTION:Meeting Location: TBC\nDestination: TBC\nApproximate Mileage: TBC \nLead Rider: TBC\nTail End Rider: TBC \n**Please RSVP on this event in the RoSPA WhatsApp Community**
URL:https://rospabikers.club/event/2nd-september-wednesday-group-ride/
END:VEVENT
BEGIN:VEVENT
DTSTART;VALUE=DATE:20260907
DTEND;VALUE=DATE:20260914
DTSTAMP:20260423T175143
CREATED:20251229T153812Z
LAST-MODIFIED:20260410T182014Z
UID:3506-1788739200-1789343999@rospabikers.club
SUMMARY:France Trip (Sep 2026)
DESCRIPTION:Vosgues\, France 7th to 13th Sept.\nfull members group trip\, wonderful scenery and perfect roads.. Motorcycle friendly hotel booked (HB basis).. places still available. \nContact Mark Weaver for more information. \n**Please RSVP on this event in the RoSPA WhatsApp Community**
URL:https://rospabikers.club/event/france-september-2026/
END:VEVENT
BEGIN:VEVENT
DTSTART;TZID=Europe/London:20260909T193000
DTEND;TZID=Europe/London:20260909T210000
DTSTAMP:20260423T175143
CREATED:20260309T002140Z
LAST-MODIFIED:20260410T182010Z
UID:3705-1788982200-1788987600@rospabikers.club
SUMMARY:RoSPA Club Night
DESCRIPTION:Club night at the regular venue. Arrive from 19:00 meeting starting at 19:30. \nEvent Details: TBC \n**Please RSVP on this event in the RoSPA WhatsApp Community**
URL:https://rospabikers.club/event/rospa-club-night-16/
LOCATION:Veseyans Rugby Club\, Little Hardwick Road\, Walsall\, WS90SQ\, United Kingdom
END:VEVENT
BEGIN:VEVENT
DTSTART;TZID=Europe/London:20261014T193000
DTEND;TZID=Europe/London:20261014T210000
DTSTAMP:20260423T175143
CREATED:20260309T002207Z
LAST-MODIFIED:20260410T182006Z
UID:3707-1792006200-1792011600@rospabikers.club
SUMMARY:RoSPA Club Night
DESCRIPTION:Club night at the regular venue. Arrive from 19:00 meeting starting at 19:30. \nEvent Details: TBC \n**Please RSVP on this event in the RoSPA WhatsApp Community**
URL:https://rospabikers.club/event/rospa-club-night-17/
LOCATION:Veseyans Rugby Club\, Little Hardwick Road\, Walsall\, WS90SQ\, United Kingdom
END:VEVENT
BEGIN:VEVENT
DTSTART;TZID=Europe/London:20261111T193000
DTEND;TZID=Europe/London:20261111T210000
DTSTAMP:20260423T175143
CREATED:20260309T002403Z
LAST-MODIFIED:20260410T182004Z
UID:3710-1794425400-1794430800@rospabikers.club
SUMMARY:RoSPA Club Night & AGM
DESCRIPTION:Club night at the regular venue. Arrive from 19:00 meeting starting at 19:30. \nEvent Details: Annual General Meeting (AGM) \n**Please RSVP on this event in the RoSPA WhatsApp Community**
URL:https://rospabikers.club/event/rospa-club-night-agm/
LOCATION:Veseyans Rugby Club\, Little Hardwick Road\, Walsall\, WS90SQ\, United Kingdom
END:VEVENT
BEGIN:VEVENT
DTSTART;TZID=Europe/London:20261209T193000
DTEND;TZID=Europe/London:20261209T210000
DTSTAMP:20260423T175143
CREATED:20260309T002735Z
LAST-MODIFIED:20260410T181959Z
UID:3712-1796844600-1796850000@rospabikers.club
SUMMARY:RoSPA Club Night & Christmas Social
DESCRIPTION:Club night at the regular venue. Arrive from 19:00 meeting starting at 19:30. \nEvent Details: Xmas social \n**Please RSVP on this event in the RoSPA WhatsApp Community**
URL:https://rospabikers.club/event/rospa-club-night-christmas-social/
LOCATION:Veseyans Rugby Club\, Little Hardwick Road\, Walsall\, WS90SQ\, United Kingdom
END:VEVENT
END:VCALENDAR